BEGIN:VCALENDAR
VERSION:2.0
PRODID:Events Booking
BEGIN:VEVENT
UID:69ea7da82d6d9
SUMMARY:Wyoming’s Energy Future Symposium
DESCRIPTION:
DTSTART:20220915T170000Z
DTEND:20220916T003000Z
DTSTAMP:20220822T225547Z
ORGANIZER;CN=Wyoming Association of Professional Landmen:MAILTO:info@wyland
 man.com
END:VEVENT
END:VCALENDAR