BEGIN:VCALENDAR
VERSION:2.0
PRODID:Events Booking
BEGIN:VEVENT
UID:69e768914d18e
SUMMARY:WAPL Golf Tournament 2023
DESCRIPTION:The WAPL Golf Tournament is full. The Educational Seminar and C
 ocktail Party are still OPEN.
 The Wyoming Association of Professional La
 ndman (WAPL) Invitational Golf Tournament will be held at The Powder Horn 
 Golf Club in Sheridan\, Wyoming on Friday\, August 4\, 2023. The Powder Ho
 rn Golf Club is a 27-hole championship golf course and has been named by G
 olfweek Magazine as one of America’s top 100 Modern Golf Courses.
 The 
 entry fee is $225.00 for WAPL members and $300.00 for non-members.
 This 
 includes a tee prize\, green fees\, cart\, lunch\, refreshments\, banquet 
 dinner\, awards\, raffle and pin prizes. Nongolfers\, spouses or guests ma
 y register for dinner by completing the non-golfer portion of the reservat
 ion form and enclosing the required fees. Awards\, door and pin prizes wil
 l be awarded at the banquet dinner that will be at the Powder Horn Clubhou
 se following the Tournament.
 On Friday\, check-in will be at 7:30 A.M. f
 or the 8:00 A.M. tee time and 12:30 P.M. for the 1:30 P.M. tee time.
 Ple
 ase make sure you have checked your preferred tee time and we will try to 
 accommodate. However\, only 12 teams will be allowed in the morning slot. 
 The Powder Horn Club will provide breakfast burritos for the morning teams
  and lunch boxes for the afternoon teams. The format is a four-person sele
 ct-your-own-team scramble. If needed\, the Golf Committee will try to plac
 e you with a team.
 A block of tee times have been reserved for WAPL Golf
  Tournament participants to play individual practice rounds. You can call 
 the Powder Horn at (307)672-5323 to make reservations once online registra
 tion is active.
 
 Please consider sponsoring the WAPL Golf Tournament

  Without the kind&nbsp\;support of our sponsors these events would not be 
 possible. Sponsors also receive early access to register a team for the to
 urnament and recognition at the event.
 Sponsor the Event
 
 Educationa
 l Seminar &amp\; Networking Party (Registration opens 6/19/2023)
 The edu
 cational seminar&nbsp\;and Networking party will be on Thursday\, August 3
 rd and the golf tournament and awards dinner on Friday\, August 4th.
 Get
  Tickets for Educational Seminar
 If you need tickets for only the banque
 t or networking party without attending the golf tournament you can get in
 dividual tickets for those events online here:&nbsp\;https://wylandman.com
 /index.php/wapl-networking-party-and-banquet-tickets
 Get Tickets for Net
 working Party or Banquet Only
 The networking party is sponsored by&nbsp\
 ;Crowley Fleck PLLP
 Should you have any questions concerning the tournam
 ent\, format\, entries\, guests\, or sponsorships\, please contact Mike Co
 ulter at (Cell) 307-751-5029\, (Office) 307-461-9086 or waplgolf@gmail.com
 .
 &nbsp\;
LOCATION:23 Country Club Ln\, Sheridan\, WY 82801\, USA
DTSTART:20230804T133000Z
DTEND:20230804T220000Z
DTSTAMP:20260421T120745Z
ORGANIZER;CN=Wyoming Association of Professional Landmen:MAILTO:info@wyland
 man.com
GEO:44.690586;-106.977942
X-APPLE-STRUCTURED-LOCATION;VALUE=URI;X-ADDRESS=23 Country Club Ln\, Sherid
 an\, WY 82801\, USA;X-APPLE-RADIUS=72;X-TITLE=The Powder Horn Golf Club:44
 .690586;-106.977942
END:VEVENT
END:VCALENDAR