BEGIN:VCALENDAR
VERSION:2.0
PRODID:Events Booking
BEGIN:VEVENT
UID:69ea930e99a8e
SUMMARY:WAPL Golf Tournament 2022
DESCRIPTION:We are no longer accepting online registrations for the WAPL Go
 lf Tournament. Please email waplgolf@gmail.com&nbsp\;to be placed on the w
 ait list.
 The 2022 Wyoming Association of Professional Landman (WAPL) In
 vitational Golf Tournament will be held at The Powder Horn Golf Club in Sh
 eridan\, Wyoming on Friday\, August 5\, 2022. The Powder Horn Golf Club is
  a 27-hole championship golf course and has been named by Golfweek Magazin
 e as one of America’s top 100 Modern Golf Courses.
 The entry fee is $2
 25.00 for WAPL members and $300.00 for non-members.
 This includes a tee 
 prize\, green fees\, cart\, lunch\, refreshments\, banquet dinner\, awards
 \, raffle and pin prizes. Nongolfers\, spouses or guests may register for 
 dinner by completing the non-golfer portion of the reservation form and en
 closing the required fees. Awards\, door and pin prizes will be awarded at
  the banquet dinner that will be at the Powder Horn Clubhouse following th
 e Tournament.
 On Friday\, check-in will be at 7:30 A.M. for the 8:00 A.M
 . tee time and 12:30 P.M. for the 1:30 P.M. tee time.
 Please make sure y
 ou have checked your preferred tee time and we will try to accommodate. Ho
 wever\, only 12 teams will be allowed in the morning slot. The Powder Horn
  Club will provide breakfast burritos for the morning teams and lunch boxe
 s for the afternoon teams. The format is a four-person select-your-own-tea
 m scramble. If needed\, the Golf Committee will try to place you with a te
 am.
 A block of tee times have been reserved for WAPL Golf Tournament par
 ticipants to play individual practice rounds. You can call the Powder Horn
  at (307)672-5323 to make reservations once online registration is active.
 
 
 Please consider sponsoring the WAPL Golf Tournament
 Without the ki
 nd&nbsp\;support of our sponsors these events would not be possible. Spons
 ors also receive early access to register a team for the tournament and re
 cognition at the event.
 Sponsor the Event
 
 Educational Seminar &amp\
 ; Networking Party
 The educational seminar&nbsp\;and Networking party wi
 ll be on Thursday\, August 4th and the golf tournament and awards dinner o
 n Friday\, August 5th.
 If you need tickets for only the banquet or netwo
 rking party without attending the golf tournament you can get individual t
 ickets for those events online here:&nbsp\;https://wylandman.com/index.php
 /wapl-networking-party-and-banquet-tickets
 Should you have any questions
  concerning the tournament\, format\, entries\, guests\, or sponsorships\,
  please contact Mike Coulter at (Cell) 307-751-5029\, (Office) 307-461-908
 6 or waplgolf@gmail.com.
 &nbsp\;
LOCATION:23 Country Club Ln\, Sheridan\, WY 82801\, USA
DTSTART:20220805T133000Z
DTEND:20220805T100000Z
DTSTAMP:20260423T214550Z
ORGANIZER;CN=Wyoming Association of Professional Landmen:MAILTO:info@wyland
 man.com
GEO:44.690586;-106.977942
X-APPLE-STRUCTURED-LOCATION;VALUE=URI;X-ADDRESS=23 Country Club Ln\, Sherid
 an\, WY 82801\, USA;X-APPLE-RADIUS=72;X-TITLE=The Powder Horn Golf Club:44
 .690586;-106.977942
END:VEVENT
END:VCALENDAR