BEGIN:VCALENDAR
VERSION:2.0
PRODID:Events Booking
BEGIN:VEVENT
UID:69eba3c042009
SUMMARY:WAPL Golf Tournament 2021
DESCRIPTION:The 2021 WAPL Invitational Golf Tournament Results are in!
 Do
 wnload&nbsp\;WAPL AM Leaderboard
 Download&nbsp\;WAPL PM Leaderboard
 Th
 e 2021 Wyoming Association of Professional Landman (WAPL) Invitational Gol
 f Tournament will be held at The Powder Horn Golf Club in Sheridan\, Wyomi
 ng on Friday\, August 6\, 2021. The Powder Horn Golf Club is a 27-hole cha
 mpionship golf course and has been named by Golfweek Magazine as one of Am
 erica’s top 100 Modern Golf Courses.
 The entry fee is $175.00 for WAPL
  members and $250.00 for non-members.
 This includes a tee prize\, green 
 fees\, cart\, lunch\, refreshments\, banquet dinner\, awards\, raffle and 
 pin prizes. Nongolfers\, spouses or guests may register for dinner by comp
 leting the non-golfer portion of the reservation form and enclosing the re
 quired fees. Awards\, door and pin prizes will be awarded at the banquet d
 inner that will be at the Powder Horn Clubhouse following the Tournament.
 
 On Friday\, check-in will be at 7:30 A.M. for the 8:00 A.M. tee time and
  12:30 P.M. for the 1:30 P.M. tee time.
 Please make sure you have checke
 d your preferred tee time and we will try to accommodate. However\, only 1
 2 teams will be allowed in the morning slot. The Powder Horn Club will pro
 vide breakfast burritos for the morning teams and lunch boxes for the afte
 rnoon teams. The format is a four-person select-your-own-team scramble. If
  needed\, the Golf Committee will try to place you with a team.
 A block 
 of tee times have been reserved for WAPL Golf Tournament participants to p
 lay individual practice rounds. You can call the Powder Horn at (307)672-5
 323 to make reservations once online registration is active.
 
 Please c
 onsider sponsoring the WAPL Golf Tournament
 Without the kind&nbsp\;suppo
 rt of our sponsors these events would not be possible. Sponsors also recei
 ve early access to register a team for the tournament and recognition at t
 he event.
 Sponsor the Event
 
 Educational Seminar &amp\; Networking P
 arty
 The educational seminar&nbsp\;and Networking party will be on Thurs
 day\, August 5th and the golf tournament and awards dinner on Friday\, Aug
 ust 6th.
 If you need tickets for only the banquet or networking party wi
 thout attending the golf tournament you can get individual tickets for tho
 se events online here:&nbsp\;https://wylandman.com/index.php/wapl-networki
 ng-party-and-banquet-tickets
 Should you have any questions concerning th
 e tournament\, format\, entries\, guests\, or sponsorships\, please contac
 t Mike Coulter at (Cell) 307-751-5029\, (Office) 307-461-9086 or waplgolf@
 gmail.com.
 &nbsp\;
LOCATION:23 Country Club Ln\, Sheridan\, WY 82801\, USA
DTSTART:20210806T133000Z
DTEND:20210806T100000Z
DTSTAMP:20260424T170920Z
ORGANIZER;CN=Wyoming Association of Professional Landmen:MAILTO:info@wyland
 man.com
GEO:44.690586;-106.977942
X-APPLE-STRUCTURED-LOCATION;VALUE=URI;X-ADDRESS=23 Country Club Ln\, Sherid
 an\, WY 82801\, USA;X-APPLE-RADIUS=72;X-TITLE=The Powder Horn Golf Club:44
 .690586;-106.977942
END:VEVENT
END:VCALENDAR