BEGIN:VCALENDAR
VERSION:2.0
PRODID:Events Booking
BEGIN:VEVENT
UID:69e76837c34be
SUMMARY:WAPL Educational Event 2023
DESCRIPTION:The WAPL Educational Event is sponsored by&nbsp\;Beatty &amp\; 
 Wozniak\, P.C.
 &nbsp\;
 Registration includes lunch\, continued educati
 on credits\, and entry into the Networking Party on Thursday night at 6:30
  pm at the Powder Horn Golf Clubhouse in Sheridan.
 Register Online
 Eve
 nt Information:
 Thursday\, August 3\, 2023 – 8 am to 2:30 pm
 Locatio
 n: Ramada Plaza by Wyndham Sheridan Hotel and Convention Center\, Sheridan
 \, WY 82801
 Educational Credit:
 Continuing Educational Hours
 Schedul
 e:
 &nbsp\;
 
 
 
 Introductory RemarksJ. Brooks Yates\, CPLAAPL Pres
 identPresident\, Peregrine Petroleum Partners Ltd.
 8:00 – 8:30 a.m.
 
 
 
 Oil and Gas AgreementsJ. David Chase\, Chief Reservoir Management Gr
 oupWyoming State OfficeU.S. Bureau of Land Management
 8:30 – 9:30 a.m.
 
 
 
 BREAK
 9:30 – 9:45 a.m.
 
 
 Wyoming Oil and Gas Conservati
 on Commission&nbsp\;Chapter 3\, Section 8(m) – Practice\, Procedure\, an
 d UpdatesNicol Thompson Kramer\, ShareholderBeatty &amp\; Wozniak\, P.C.

  9:45 – 10:45 a.m.
 
 
 
 Federal Lease LitigationPete Obermueller\,
 &nbsp\;PresidentPetroleum Association of Wyoming
 
 10:45 – 11:45 a.m.
 
 
 
 &nbsp\;LUNCH BREAK&nbsp\;
 11:45 – 12:30 p.m.
 
 
 Commingl
 ing and Metering on Federal LandJames Parrot\, ShareholderBeatty &amp\; Wo
 zniak\, P.C.
 12:30 p.m. – 1:30 p.m.
 
 
 
 Ethics in the Oil and G
 as Industry: Issues and OverviewJacob T. Haseman\, ShareholderBeatty &amp\
 ; Wozniak\, P.C.
 
 1:30 – 2:30 p.m.
 
 
 
 
 &nbsp\;
 Get Ticke
 ts for the Networking Party on Thursday night or the Friday Night Banquet
 
 If you want to register for the banquet or only want to attend the netwo
 rking party without attending the educational event or golf tournament you
  may purchase individual tickets for those events online here:&nbsp\;https
 ://wylandman.com/index.php/wapl-networking-party-and-banquet-tickets
 The
  networking party is sponsored by&nbsp\;Crowley Fleck PLLP
 Get Tickets f
 or Networking Party or Banquet Only
DTSTART:20230803T140000Z
DTEND:20230803T203000Z
DTSTAMP:20260421T120615Z
ORGANIZER;CN=Wyoming Association of Professional Landmen:MAILTO:info@wyland
 man.com
END:VEVENT
END:VCALENDAR