BEGIN:VCALENDAR
VERSION:2.0
PRODID:Events Booking
BEGIN:VEVENT
UID:69ea924e21c79
SUMMARY:WAPL Educational Event 2022
DESCRIPTION:The WAPL Educational Event is sponsored by WAPL and Throne Law 
 Office\, P.C.
 &nbsp\;
 Registration includes lunch\, continued educatio
 n credits\, and entry into the Networking Party on Thursday night at 6:30 
 pm at the Powder Horn Golf Clubhouse in Sheridan.
 Register Online
 &nbs
 p\;
 Event Information:
 Thursday\, August 4\, 2022 – 8 am to 2 pm
 &
 nbsp\;
 Location: Ramada Plaza by Wyndham Sheridan Hotel and Convention C
 enter\, Sheridan\, WY 82801
 &nbsp\;
 Educational Credit:
 Continuing E
 ducational Hours
 &nbsp\;
 Schedule:
 
 
 
 8:00 a.m. – 8:30 a.m.
 
 Introduction/WelcomeMarc StrahnCarl Campbell\, AAPL President
 
 
 8:
 30 a.m. – 9:30 a.m.
 Oil and Gas AgreementsJ. David ChaseBLM Wyoming St
 ate OfficeReservoir Management Group
 
 
 9:30 a.m. – 10:30 a.m.
 Et
 hics in the Oil &amp\; Gas IndustryJake HasemanThrone Law Office\, P.C.
 
 
 
 BREAK
 &nbsp\;
 
 
 11:00 – 11:30 a.m.
 WOGCC UpdateS. Thomas
  ThroneThrone Law Office\, P.C.
 
 
 11:30 a.m. – 12:15 p.m.
 Legal 
 UpdateRio SmithThrone Law Office\, P.C.
 
 
 LUNCH
 &nbsp\;
 
 
 1:
 00 p.m. – 2:00 p.m.
 Carbon Capture Units/Carbon SequestrationCody Wago
 ner\, Tallgrass Energy PartnersAlicia Summers\, Frontier Carbon SolutionsJ
 ason Wasserburger\, Throne Law Office\, P.C.
 
 
 
 
 Get Tickets for
  the Networking Party on Thursday night or the Friday Night Banquet
 If y
 ou want to register for the banquet or only want to attend the networking 
 party without attending the educational event or golf tournament you can g
 et individual tickets for those events online here:&nbsp\;https://wylandma
 n.com/index.php/wapl-networking-party-and-banquet-tickets
DTSTART:20220804T140000Z
DTEND:20220804T080000Z
DTSTAMP:20260423T214238Z
ORGANIZER;CN=Wyoming Association of Professional Landmen:MAILTO:info@wyland
 man.com
END:VEVENT
END:VCALENDAR