BEGIN:VCALENDAR
VERSION:2.0
PRODID:Events Booking
BEGIN:VEVENT
UID:69eba342ce4f8
SUMMARY:WAPL Educational Event 2021
DESCRIPTION:The WAPL Educational Event is sponsored by WAPL and Throne Law 
 Office\, P.C.
 Register Online
 &nbsp\;
 Registration includes lunch\, 
 continued education credits\, and entry into the Networking Party on Thurs
 day night at 6:30 pm at the Powder Horn Golf Clubhouse in Sheridan.
 Even
 t Information:
 Thursday\, August 5\, 2021 – 8 am to 2 pm
 &nbsp\;
 L
 ocation: Holiday Inn &amp\; Convention Center\, 1809 Sugarland Dr\, Sherid
 an\, WY 82801&nbsp\;&nbsp\;
 &nbsp\;
 Educational Credit:
 Details Comi
 ng Soon!
 &nbsp\;
 Schedule:
 
 
 
 8:00-8:30 AM
 &nbsp\;Introducti
 on and Welcome
 Mike CoulterMarc Strahn\,&nbsp\;Former WAPL President &am
 p\; AAPL President
 
 
 8:30-9:30 AM
 &nbsp\;Hydrogen for Wyoming
 Ty
 ler S\, HuckabyManager\, Land &amp\; AdministrationHumble Midstream
 
 
 
 9:30-10:15&nbsp\;AM
 &nbsp\;Wyoming Law update
 Jason WasserburgerThro
 ne Law Office\, P.C
 
 
 10:15-10:30&nbsp\;AM
 &nbsp\;Break
 &nbsp\;
 
 
 
 10:30-11:30&nbsp\;AM
 &nbsp\;Grid Security
 Chris PetrieChairman
 Wyoming Public Service Commission
 
 
 11:30-12:00
 &nbsp\;Lunch/Break
 
 &nbsp\;
 
 
 12:10-1:00 PM
 Ethics in the Oil and Gas IndustryIssue
 s and Overview
 Jacob T. HasemanThrone Law Office\, P.C
 
 
 1:00-2:00
  PM
 Wyoming Oil and Gas Commission ChangesRevised Force PoolingNew Regul
 ation Chapter 3\, Section 2. 8(m)
 Alexis TownsleyS. Thomas ThroneThrone 
 Law Office\, P.C
 
 
 
 
 Get Tickets for the Networking Party on Thu
 rsday night or the Friday Night Banquet
 If you want to register for the 
 banquet or only want to attend the networking party without attending the 
 educational event or golf tournament you can get individual tickets for th
 ose events online here:&nbsp\;https://wylandman.com/index.php/wapl-network
 ing-party-and-banquet-tickets
DTSTART:20210805T140000Z
DTEND:20210805T080000Z
DTSTAMP:20260424T170714Z
ORGANIZER;CN=Wyoming Association of Professional Landmen:MAILTO:info@wyland
 man.com
END:VEVENT
END:VCALENDAR