BEGIN:VCALENDAR
VERSION:2.0
PRODID:Events Booking
BEGIN:VEVENT
UID:69ea7e26334cc
SUMMARY:Student Chapter of Energy Resources Club Tailgate and Fundraiser
DESCRIPTION:
DTSTART:20220916T220000Z
DTEND:20220916T200000Z
DTSTAMP:20220822T233811Z
ORGANIZER;CN=Wyoming Association of Professional Landmen:MAILTO:info@wyland
 man.com
END:VEVENT
END:VCALENDAR