BEGIN:VCALENDAR
VERSION:2.0
PRODID:Events Booking
BEGIN:VEVENT
UID:69e9dc3eaa2b4
SUMMARY:Spring Social & WOGCC Staff Appreciation Happy Hour
DESCRIPTION:Join your fellow WAPL Members for the&nbsp\;Spring Social &amp\
 ; WOGCC Staff Appreciation Happy Hour!
 Petroleum Association of Wyoming 
 and Wyoming Association of Professional Landmen are hosting an Industry pr
 e-hearing social hour and WOGCC Staff Appreciation at Gruner Brothers on A
 pril 10th. Drinks and appetizers will be provided.
 Monday\, April 10\, 2
 0234:30 to 7:00 PMGruner Brothers Brewing (1301 Wilkins Cir\, Casper\, WY 
 82601)
 Casual. Food &amp\; Drinks Provided.
DTSTART:20230410T223000Z
DTEND:20230411T010000Z
DTSTAMP:20230405T023753Z
ORGANIZER;CN=Wyoming Association of Professional Landmen:MAILTO:info@wyland
 man.com
END:VEVENT
END:VCALENDAR