BEGIN:VCALENDAR
VERSION:2.0
PRODID:Events Booking
BEGIN:VEVENT
UID:69e8cbad1660b
SUMMARY:Rocky Mountain Professional Landman Networking Reception and Studen
 t Club Raffle
DESCRIPTION:Prior to the Rocky Mountain Professional Landman Conference\, t
 here will be a networking reception (Thursday\, May 4\, 2023) from 6:00 PM
  to 8:00 PM at the Energy Innovation Center in Laramie.&nbsp\; 
 The rece
 ption&nbsp\;is open to all and it is encouraged to attend this in conjunct
 ion with the conference. Appetizers and drinks will be provided and buildi
 ng tour(s) of the Energy Innovation Center will be available. 
 It will b
 e a great chance to network with the UWPLM students and other professional
 s.
 Learn more:&nbsp\;http://www.uwyo.edu/ser/events/conferences/plm-conf
 erence/plm-conference.html
DTSTART:20230505T000000Z
DTEND:20230505T023000Z
DTSTAMP:20220413T030035Z
ORGANIZER;CN=Wyoming Association of Professional Landmen:MAILTO:info@wyland
 man.com
END:VEVENT
END:VCALENDAR