BEGIN:VCALENDAR
VERSION:2.0
PRODID:Events Booking
BEGIN:VEVENT
UID:69eaebf26f2fe
SUMMARY:Rocky Mountain Professional Landman Conference
DESCRIPTION:The UW School of Energy Resources is pleased to host the Rocky 
 Mountain Professional Landman Conference. The forum seeks to bring togethe
 r industry professionals and PLM alumni in the rocky mountain region to sh
 owcase the esteemed profession\, and discuss career paths &amp\; opportuni
 ties for future graduates.
 The&nbsp\;Rocky Mountain Professional Landman
  Conference will be held at the UW Conference Center featuring AAPL Presid
 ent James T. Devlin.&nbsp\;
 To pre-register for the event\, please visit
 : uwyo.edu/ser/events
 -&nbsp\;Prior to the conference\, there will be a 
 networking reception (Thursday\, April 28th) from 5:30 PM to 7:30 PM at th
 e Energy Innovation Center.&nbsp\; The reception&nbsp\;is open to all and 
 it is encouraged to attend this in conjunction with the conference. Appeti
 zers and drinks will be provided and building tour(s) of the Energy Innova
 tion Center will be available. It will be a great chance to network with t
 he UWPLM students and other professionals.
 -&nbsp\;3.75 CE Credits with 
 AAPL
 -&nbsp\;Panel Discussions
 Contact Christine Reed at&nbsp\;christi
 ne.reed@uwyo.edu with questions.
 Event Schedule
 Download Event Schedul
 e
 UW Conference Center at the Hilton Garden Inn2229 Grand Ave\, Laramie\
 , WY 82070
 7:30-8:00am - Check-In and Breakfast Buffet8:00-8:10am - Welc
 ome Address\, Dr. Holly Krutka\, SER Executive Director8:10-8:30am - Natio
 nal Level\, Future of Energy\, John Litynski\, Office of Fossil Energy\, D
 OE8:30-8:50am - Wyoming\, Future of Energy\, Randall Luthi8:50-9:20am&nbsp
 \;- Past\, Present and Future of the Landman Profession- Panel9:20-10:10am
  - Networking Break10:10-10:15am -&nbsp\; Introduction of Keynote\, Marc S
 trahn\, former WAPL and AAPL President10:15-11:00am - Keynote\, Jim Devlin
 \, AAPL President11:00-12:40am - New Opportunities for Land Profession-Pan
 el12:40-1:00 - Closing Remarks-Student Chapter of Energy Resources\, Presi
 dent\, Eli Vigil &amp\; Box Lunch-Pick-up
 Download Event Flyer
DTSTART:20220429T140000Z
DTEND:20220429T190000Z
DTSTAMP:20220202T065025Z
ORGANIZER;CN=Wyoming Association of Professional Landmen:MAILTO:info@wyland
 man.com
END:VEVENT
END:VCALENDAR