BEGIN:VCALENDAR
VERSION:2.0
PRODID:Events Booking
BEGIN:VEVENT
UID:69e7aa4bcfde5
SUMMARY:Rocky Mountain Professional Landman Conference
DESCRIPTION:The UW School of Energy Resources is pleased to host the Rocky 
 Mountain Professional Landman Conference. The forum seeks to bring togethe
 r industry professionals and PLM alumni in the rocky mountain region to sh
 owcase the esteemed profession\, and discuss career paths &amp\; opportuni
 ties for future graduates.
 The&nbsp\;Rocky Mountain Professional Landman
  Conference will be held at the&nbsp\;UW Conference Center at the Hilton G
 arden Inn |&nbsp\;2229 Grand Ave\, Laramie\, WY 82070
 To pre-register fo
 r the event\, please visit:&nbsp\;http://www.uwyo.edu/ser/events/conferenc
 es/plm-conference/plm-conference.html
 -&nbsp\;Prior to the conference\, 
 there will be a networking reception (Thursday\, May 4\, 2023) from 6:00 P
 M to 8:00 PM at the Energy Innovation Center.&nbsp\; The reception&nbsp\;i
 s open to all and it is encouraged to attend this in conjunction with the 
 conference. Appetizers and drinks will be provided and building tour(s) of
  the Energy Innovation Center will be available. It will be a great chance
  to network with the UWPLM students and other professionals.
 -&nbsp\;The
  conference has&nbsp\;been accredited for 4.5 RL\, RPL or CPL recertificat
 ion credit(s) (CEU)\, and 0 CPL/ESA\, and/or 1 Ethics credit(s) (CEU Ethic
 s)\, for a total of&nbsp\;5.5&nbsp\;credit(s). Number of credits accredite
 d for 100% participation in this educational program.
 -&nbsp\;The confer
 ence has been approved for continuing legal education credits with the Wyo
 ming State Bar Association.&nbsp\;It has been approved for: 5.00 General c
 redits\, including 1.00 Ethics credits.
 Contact Christine Reed at&nbsp\;
 christine.reed@uwyo.edu with questions.
 Event Schedule
 Download Event 
 Schedule
 UW Conference Center at the Hilton Garden Inn2229 Grand Ave\, L
 aramie\, WY 82070
DTSTART:20230505T140000Z
DTEND:20230505T203000Z
DTSTAMP:20220202T065025Z
ORGANIZER;CN=Wyoming Association of Professional Landmen:MAILTO:info@wyland
 man.com
END:VEVENT
END:VCALENDAR