BEGIN:VCALENDAR
VERSION:2.0
PRODID:Events Booking
BEGIN:VEVENT
UID:69eab8e1cbe39
SUMMARY:Annual Gene R. George Memorial Golf Tournament
DESCRIPTION:Friday\, June 24\, 2022 1:00 PM
 Tournament Format
 
 Held a
 t 3 Crowns Golf Course\, Casper\, Wyoming
 Registration begins at 11:030 
 pm\, Shotgun start at 1:00 pm.
 4 Man Team Scramble\, individual registra
 tions welcome!*
 
 * In an effort to accommodate those without a team\, 
 we will gladly accept individual registrations and place you on a team.
 
 Sponsorship Form
 Download Registration Form
 Tournament Costs/Extras
 
 • Team mulligans and ‘throw the ball’ available for purchase at regi
 stration- $10/per person\, Max 2 of each
 • Hole prizes (longest drive\
 , longest putt\, etc)\, raffle prizes and silent auction
 • The infamou
 s Rock Hammer putter – all players must use this on #9.
 • Please pay
  upon registration. Please make all payments to the WGA- Contact Brandy in
  the office @ (307) 237-0027 for credit card orders and other payment opti
 ons).
 • All proceeds go directly to SME\, SPE\, WGA and WAPL scholarsh
 ips to support our future scientists!
 Please email completed forms to ge
 negeorge.golf@gmail.comor snail mail completed forms to WGA\, P.O. Box 545
 \, Casper\, WY 82602.
 General information:• Email - genegeorge.golf@gm
 ail.com• Phone - Graeme Finley: 307-247-1454 or Dayton Lewis: 307-267-68
 28
LOCATION:1601 King Blvd\, Casper\, WY 82604\, USA
DTSTART:20220624T180000Z
DTEND:20220625T030000Z
DTSTAMP:20260424T002713Z
ORGANIZER;CN=Wyoming Association of Professional Landmen:MAILTO:info@wyland
 man.com
GEO:42.842728;-106.347805
X-APPLE-STRUCTURED-LOCATION;VALUE=URI;X-ADDRESS=1601 King Blvd\, Casper\, W
 Y 82604\, USA;X-APPLE-RADIUS=72;X-TITLE=Three Crowns Golf Club:42.842728;-
 106.347805
END:VEVENT
END:VCALENDAR