BEGIN:VCALENDAR
VERSION:2.0
PRODID:Events Booking
BEGIN:VEVENT
UID:69ebce6a9b28d
SUMMARY:2021 AAPL Annual Meeting & Conference
DESCRIPTION:
DTSTART:20210623T060000Z
DTEND:20210626T060000Z
DTSTAMP:20260424T201122Z
ORGANIZER;CN=Wyoming Association of Professional Landmen:MAILTO:info@wyland
 man.com
END:VEVENT
END:VCALENDAR